BEGIN:VCALENDAR
VERSION:2.0
PRODID:-//St Paul Church - ECPv6.15.20//NONSGML v1.0//EN
CALSCALE:GREGORIAN
METHOD:PUBLISH
X-WR-CALNAME:St Paul Church
X-ORIGINAL-URL:https://stpaulcolumbus.com
X-WR-CALDESC:Events for St Paul Church
REFRESH-INTERVAL;VALUE=DURATION:PT1H
X-Robots-Tag:noindex
X-PUBLISHED-TTL:PT1H
BEGIN:VTIMEZONE
TZID:America/New_York
BEGIN:DAYLIGHT
TZOFFSETFROM:-0500
TZOFFSETTO:-0400
TZNAME:EDT
DTSTART:20250309T070000
END:DAYLIGHT
BEGIN:STANDARD
TZOFFSETFROM:-0400
TZOFFSETTO:-0500
TZNAME:EST
DTSTART:20251102T060000
END:STANDARD
BEGIN:DAYLIGHT
TZOFFSETFROM:-0500
TZOFFSETTO:-0400
TZNAME:EDT
DTSTART:20260308T070000
END:DAYLIGHT
BEGIN:STANDARD
TZOFFSETFROM:-0400
TZOFFSETTO:-0500
TZNAME:EST
DTSTART:20261101T060000
END:STANDARD
BEGIN:DAYLIGHT
TZOFFSETFROM:-0500
TZOFFSETTO:-0400
TZNAME:EDT
DTSTART:20270314T070000
END:DAYLIGHT
BEGIN:STANDARD
TZOFFSETFROM:-0400
TZOFFSETTO:-0500
TZNAME:EST
DTSTART:20271107T060000
END:STANDARD
END:VTIMEZONE
BEGIN:VEVENT
DTSTART;TZID=America/New_York:20260421T160000
DTEND;TZID=America/New_York:20260421T170000
DTSTAMP:20260421T044055
CREATED:20250813T160348Z
LAST-MODIFIED:20251222T134630Z
UID:10001936-1776787200-1776790800@stpaulcolumbus.com
SUMMARY:Spring Harbor Bible Study
DESCRIPTION:Bible Study at Spring Harbor📅 Tuesdays | 🕓 4:00 PM📍 Arts & Crafts Room\, Spring Harbor \n\n\n\nYou’re invited to a welcoming and engaging Bible Study led by Rev. John Fugh\, Jr. each Tuesday afternoon at Spring Harbor. We meet in the Arts & Crafts Room for a time of Scripture reading\, thoughtful discussion\, and meaningful fellowship. \n\n\n\nThis study is designed to encourage participants to dig deeper into God’s Word while connecting its truths to everyday life. Whether you’re a longtime Bible reader or new to study\, you’ll find the teaching accessible\, the conversation warm\, and the community encouraging. \n\n\n\nBring your Bible\, bring a friend\, and join us as we grow together in faith and understanding.
URL:https://stpaulcolumbus.com/event/spring-harbor-bible-study/2026-04-21/
ATTACH;FMTTYPE=image/webp:https://stpaulcolumbus.com/wp-content/uploads/2025/08/Spring-Harbor-2.png.webp
END:VEVENT
BEGIN:VEVENT
DTSTART;TZID=America/New_York:20260428T160000
DTEND;TZID=America/New_York:20260428T170000
DTSTAMP:20260421T044055
CREATED:20250813T160348Z
LAST-MODIFIED:20251222T134630Z
UID:10001937-1777392000-1777395600@stpaulcolumbus.com
SUMMARY:Spring Harbor Bible Study
DESCRIPTION:Bible Study at Spring Harbor📅 Tuesdays | 🕓 4:00 PM📍 Arts & Crafts Room\, Spring Harbor \n\n\n\nYou’re invited to a welcoming and engaging Bible Study led by Rev. John Fugh\, Jr. each Tuesday afternoon at Spring Harbor. We meet in the Arts & Crafts Room for a time of Scripture reading\, thoughtful discussion\, and meaningful fellowship. \n\n\n\nThis study is designed to encourage participants to dig deeper into God’s Word while connecting its truths to everyday life. Whether you’re a longtime Bible reader or new to study\, you’ll find the teaching accessible\, the conversation warm\, and the community encouraging. \n\n\n\nBring your Bible\, bring a friend\, and join us as we grow together in faith and understanding.
URL:https://stpaulcolumbus.com/event/spring-harbor-bible-study/2026-04-28/
ATTACH;FMTTYPE=image/webp:https://stpaulcolumbus.com/wp-content/uploads/2025/08/Spring-Harbor-2.png.webp
END:VEVENT
BEGIN:VEVENT
DTSTART;TZID=America/New_York:20260505T160000
DTEND;TZID=America/New_York:20260505T170000
DTSTAMP:20260421T044055
CREATED:20250813T160348Z
LAST-MODIFIED:20251222T134630Z
UID:10001938-1777996800-1778000400@stpaulcolumbus.com
SUMMARY:Spring Harbor Bible Study
DESCRIPTION:Bible Study at Spring Harbor📅 Tuesdays | 🕓 4:00 PM📍 Arts & Crafts Room\, Spring Harbor \n\n\n\nYou’re invited to a welcoming and engaging Bible Study led by Rev. John Fugh\, Jr. each Tuesday afternoon at Spring Harbor. We meet in the Arts & Crafts Room for a time of Scripture reading\, thoughtful discussion\, and meaningful fellowship. \n\n\n\nThis study is designed to encourage participants to dig deeper into God’s Word while connecting its truths to everyday life. Whether you’re a longtime Bible reader or new to study\, you’ll find the teaching accessible\, the conversation warm\, and the community encouraging. \n\n\n\nBring your Bible\, bring a friend\, and join us as we grow together in faith and understanding.
URL:https://stpaulcolumbus.com/event/spring-harbor-bible-study/2026-05-05/
ATTACH;FMTTYPE=image/webp:https://stpaulcolumbus.com/wp-content/uploads/2025/08/Spring-Harbor-2.png.webp
END:VEVENT
BEGIN:VEVENT
DTSTART;TZID=America/New_York:20260512T160000
DTEND;TZID=America/New_York:20260512T170000
DTSTAMP:20260421T044055
CREATED:20250813T160348Z
LAST-MODIFIED:20251222T134630Z
UID:10001939-1778601600-1778605200@stpaulcolumbus.com
SUMMARY:Spring Harbor Bible Study
DESCRIPTION:Bible Study at Spring Harbor📅 Tuesdays | 🕓 4:00 PM📍 Arts & Crafts Room\, Spring Harbor \n\n\n\nYou’re invited to a welcoming and engaging Bible Study led by Rev. John Fugh\, Jr. each Tuesday afternoon at Spring Harbor. We meet in the Arts & Crafts Room for a time of Scripture reading\, thoughtful discussion\, and meaningful fellowship. \n\n\n\nThis study is designed to encourage participants to dig deeper into God’s Word while connecting its truths to everyday life. Whether you’re a longtime Bible reader or new to study\, you’ll find the teaching accessible\, the conversation warm\, and the community encouraging. \n\n\n\nBring your Bible\, bring a friend\, and join us as we grow together in faith and understanding.
URL:https://stpaulcolumbus.com/event/spring-harbor-bible-study/2026-05-12/
ATTACH;FMTTYPE=image/webp:https://stpaulcolumbus.com/wp-content/uploads/2025/08/Spring-Harbor-2.png.webp
END:VEVENT
BEGIN:VEVENT
DTSTART;TZID=America/New_York:20260519T160000
DTEND;TZID=America/New_York:20260519T170000
DTSTAMP:20260421T044055
CREATED:20250813T160348Z
LAST-MODIFIED:20251222T134630Z
UID:10001940-1779206400-1779210000@stpaulcolumbus.com
SUMMARY:Spring Harbor Bible Study
DESCRIPTION:Bible Study at Spring Harbor📅 Tuesdays | 🕓 4:00 PM📍 Arts & Crafts Room\, Spring Harbor \n\n\n\nYou’re invited to a welcoming and engaging Bible Study led by Rev. John Fugh\, Jr. each Tuesday afternoon at Spring Harbor. We meet in the Arts & Crafts Room for a time of Scripture reading\, thoughtful discussion\, and meaningful fellowship. \n\n\n\nThis study is designed to encourage participants to dig deeper into God’s Word while connecting its truths to everyday life. Whether you’re a longtime Bible reader or new to study\, you’ll find the teaching accessible\, the conversation warm\, and the community encouraging. \n\n\n\nBring your Bible\, bring a friend\, and join us as we grow together in faith and understanding.
URL:https://stpaulcolumbus.com/event/spring-harbor-bible-study/2026-05-19/
ATTACH;FMTTYPE=image/webp:https://stpaulcolumbus.com/wp-content/uploads/2025/08/Spring-Harbor-2.png.webp
END:VEVENT
END:VCALENDAR