BEGIN:VCALENDAR
VERSION:2.0
PRODID:-//St Paul Church - ECPv6.15.20//NONSGML v1.0//EN
CALSCALE:GREGORIAN
METHOD:PUBLISH
X-WR-CALNAME:St Paul Church
X-ORIGINAL-URL:https://stpaulcolumbus.com
X-WR-CALDESC:Events for St Paul Church
REFRESH-INTERVAL;VALUE=DURATION:PT1H
X-Robots-Tag:noindex
X-PUBLISHED-TTL:PT1H
BEGIN:VTIMEZONE
TZID:America/New_York
BEGIN:DAYLIGHT
TZOFFSETFROM:-0500
TZOFFSETTO:-0400
TZNAME:EDT
DTSTART:20240310T070000
END:DAYLIGHT
BEGIN:STANDARD
TZOFFSETFROM:-0400
TZOFFSETTO:-0500
TZNAME:EST
DTSTART:20241103T060000
END:STANDARD
BEGIN:DAYLIGHT
TZOFFSETFROM:-0500
TZOFFSETTO:-0400
TZNAME:EDT
DTSTART:20250309T070000
END:DAYLIGHT
BEGIN:STANDARD
TZOFFSETFROM:-0400
TZOFFSETTO:-0500
TZNAME:EST
DTSTART:20251102T060000
END:STANDARD
BEGIN:DAYLIGHT
TZOFFSETFROM:-0500
TZOFFSETTO:-0400
TZNAME:EDT
DTSTART:20260308T070000
END:DAYLIGHT
BEGIN:STANDARD
TZOFFSETFROM:-0400
TZOFFSETTO:-0500
TZNAME:EST
DTSTART:20261101T060000
END:STANDARD
END:VTIMEZONE
BEGIN:VEVENT
DTSTART;TZID=America/New_York:20250608T110000
DTEND;TZID=America/New_York:20250608T120000
DTSTAMP:20260421T041637
CREATED:20250604T151437Z
LAST-MODIFIED:20250604T151440Z
UID:10000573-1749380400-1749384000@stpaulcolumbus.com
SUMMARY:Traditional Worship: Sanctuary
DESCRIPTION:Join us for Traditional Worship every Sunday at 11:00 AM in the Sanctuary. This service features special music\, our Chancel Choir\, and a message that proclaims the hope and truth of the Gospel. Rooted in Scripture and rich in tradition\, it offers a meaningful space to worship and grow in faith. \n\n\n\nCan’t be with us in person? This service is also livestreamed each week at stpaulcolumbus.live. You can find the order of worship at stpaulcolumbus.com/bulletin. \n\n\n\nThis is one of three worship services we offer each Sunday: \n\n\n\n8:30 AM – Traditional Worship in the Chapel \n\n\n\n9:00 AM – Modern Worship in the Fellowship Hall \n\n\n\n11:00 AM – Traditional Worship in the Sanctuary (livestreamed) \n\n\n\nWe invite you to join us as we lift our voices\, open our hearts\, and worship together.
URL:https://stpaulcolumbus.com/event/traditional-worship-sanctuary/2025-06-08/
ATTACH;FMTTYPE=image/webp:https://stpaulcolumbus.com/wp-content/uploads/2025/01/IMG_20200416_105337.webp
END:VEVENT
BEGIN:VEVENT
DTSTART;TZID=America/New_York:20250608T090000
DTEND;TZID=America/New_York:20250608T100000
DTSTAMP:20260421T041637
CREATED:20250604T152118Z
LAST-MODIFIED:20251203T220208Z
UID:10000834-1749373200-1749376800@stpaulcolumbus.com
SUMMARY:Modern Worship: Fellowship Hall
DESCRIPTION:Join us for Modern Worship every Sunday at 9:00 AM in the Fellowship Hall\, where a relaxed atmosphere and heartfelt praise create space for authentic connection with God and one another. \n\n\n\nLed by our Worship Band\, this service features contemporary music\, Scripture\, prayer\, and a message that speaks to real life and growing in faith. Whether you’re new to church or have been walking with Christ for years\, you’ll find a welcoming space to worship\, reflect\, and be encouraged. \n\n\n\nThis is one of three worship services offered each Sunday at St. Paul: \n\n\n\n\n8:30 AM – Traditional Worship in the Chapel\n\n\n\n9:00 AM – Modern Worship in the Fellowship Hall\n\n\n\n11:00 AM – Traditional Worship in the Sanctuary (also livestreamed)\n\n\n\n\nCome as you are and experience the joy of worshiping together!
URL:https://stpaulcolumbus.com/event/modern-worship-fellowship-hall/2025-06-08/
ATTACH;FMTTYPE=image/webp:https://stpaulcolumbus.com/wp-content/uploads/2025/02/IMG_1834-scaled.webp
END:VEVENT
BEGIN:VEVENT
DTSTART;TZID=America/New_York:20250608T083000
DTEND;TZID=America/New_York:20250608T093000
DTSTAMP:20260421T041637
CREATED:20250604T150651Z
LAST-MODIFIED:20251203T220019Z
UID:10000312-1749371400-1749375000@stpaulcolumbus.com
SUMMARY:Traditional Worship: Chapel
DESCRIPTION:Join us for Traditional Worship every Sunday at 8:30 AM in the Chapel. This service offers a rich\, reverent experience with hymns\, Scripture\, prayer\, and a message rooted in God’s Word—all in an intimate and sacred setting. \n\n\n\nThis is one of three worship services we offer each Sunday: \n\n\n\n\n8:30 AM – Traditional Worship in the Chapel\n\n\n\n9:00 AM – Modern Worship in the Fellowship Hall\n\n\n\n11:00 AM – Traditional Worship in the Sanctuary\n\n\n\n\nNo matter your worship style\, there’s a place for you at St. Paul. We invite you to come and experience the beauty of worship and the warmth of community.
URL:https://stpaulcolumbus.com/event/traditional-worship-chapel/2025-06-08/
ATTACH;FMTTYPE=image/webp:https://stpaulcolumbus.com/wp-content/uploads/2025/02/IMG_1865-scaled.webp
END:VEVENT
BEGIN:VEVENT
DTSTART;TZID=America/New_York:20250516T163000
DTEND;TZID=America/New_York:20250516T180000
DTSTAMP:20260421T041637
CREATED:20250318T230347Z
LAST-MODIFIED:20250430T215505Z
UID:10000281-1747413000-1747418400@stpaulcolumbus.com
SUMMARY:Sabbath Before Sunday
DESCRIPTION:Take a break and join us on the quad for a relaxing time of fellowship and fun! Parents can enjoy coffee or soda while the kids play on the green. It’s the perfect chance to slow down\, connect\, and embrace the Sabbath together before Sunday. \n\n\n\n📅 Date: May 16⏰ Time: 4:30 – 6:00 PM📍 Location: The Quad \n\n\n\nWe’d love to see you there—come and enjoy the afternoon with us!
URL:https://stpaulcolumbus.com/event/sabbath-before-sunday/
ATTACH;FMTTYPE=image/webp:https://stpaulcolumbus.com/wp-content/uploads/2025/03/20250516-Sabbath-before-Sunday.webp
END:VEVENT
BEGIN:VEVENT
DTSTART;TZID=America/New_York:20250420T000000
DTEND;TZID=America/New_York:20250420T235959
DTSTAMP:20260421T041637
CREATED:20250417T000135Z
LAST-MODIFIED:20250417T190713Z
UID:10000297-1745107200-1745193599@stpaulcolumbus.com
SUMMARY:Easter Sunday Worship
DESCRIPTION:Celebrate Easter Sunday at St. Paul Church📅 Easter Sunday | April 20\, 2025\n\n\n\nYou’re invited to join us for a powerful celebration of the resurrection of Jesus Christ! We’ll gather for three worship services across two styles—each designed to draw us into the hope and joy of Easter morning. \n\n\n\nTraditional Worship\n\n\n\n8:30 AM & 11:00 AM | SanctuaryFeaturing our Chancel Choir and Orchestra\, these rich\, reverent services will lift your heart in praise. \n\n\n\n\n8:30 AM Message: “The Risen Redeemer”– Rev. John Fugh\, Jr.– Texts: Job 19:25–27 & Luke 24:25–27\n\n\n\n11:00 AM Message: “Victory is Here – Anticipating a Resurrected Hope”– Rev. Dr. Shane Green– Text: Matthew 28:1–10\n\n\n\nLivestream Available at 11:00 AM: stpaulcolumbus.live\n\n\n\n\nModern Worship\n\n\n\n9:00 AM | Fellowship HallLed by Jake Hess III and our Praise & Worship Band\, this service offers a vibrant and engaging worship experience. \n\n\n\n\nMessage: “Victory is Here – Anticipating a Resurrected Hope”– Rev. Dr. Shane Green– Text: Matthew 28:1–10\n\n\n\n\nCome early\, bring your family and friends\, and celebrate the life-changing hope of Easter with us at St. Paul Church! \n\n\n\n \n\n\n\n \n\n\n\n \n\n\n\n.
URL:https://stpaulcolumbus.com/event/easter-sunday-worship/
ATTACH;FMTTYPE=image/webp:https://stpaulcolumbus.com/wp-content/uploads/2025/04/Easter-Still-2025.webp
END:VEVENT
END:VCALENDAR